BEGIN:VCALENDAR
VERSION:2.0
PRODID:-//ChamberMaster//Event Calendar 2.0//EN
METHOD:PUBLISH
X-PUBLISHED-TTL:P3D
REFRESH-INTERVAL:P3D
CALSCALE:GREGORIAN
BEGIN:VEVENT
DTSTART:20150714T180000Z
DTEND:20150714T190000Z
X-MICROSOFT-CDO-ALLDAYEVENT:FALSE
SUMMARY:Ribbon Cutting for Bagel Barn
DESCRIPTION:The Bagels are here!  The Bagels are here!  Come to the ribbon cutting for our newest restaurant -- the Bagel Barn.  A 50/50 raffle is currently underway\, with the drawing being held at the ribbon cutting.  Tickets are $2 each or $5 for 3.  Proceeds going to S.A.F.E.\, Inc.
X-ALT-DESC;FMTTYPE=text/html:The Bagels are here!&nbsp\; The Bagels are here!&nbsp\; Come to the ribbon cutting for our newest restaurant -- the Bagel Barn.&nbsp\; A 50/50 raffle is currently underway\, with the drawing being held at the ribbon cutting.&nbsp\; Tickets are $2 each or $5 for 3.&nbsp\; Proceeds going to S.A.F.E.\, Inc.
LOCATION:417 H Blue Ridge Street\, Blairsville - in the Bi-Lo shopping center
UID:e.256.40332
SEQUENCE:3
DTSTAMP:20260423T165333Z
URL:https://members.visitblairsvillega.com/events/details/ribbon-cutting-for-bagel-barn-07-14-2015-40332
END:VEVENT

END:VCALENDAR
