BEGIN:VCALENDAR
VERSION:2.0
PRODID:-//ChamberMaster//Event Calendar 2.0//EN
METHOD:PUBLISH
X-PUBLISHED-TTL:P3D
REFRESH-INTERVAL:P3D
CALSCALE:GREGORIAN
BEGIN:VEVENT
DTSTART:20170510T200000Z
DTEND:20170510T210000Z
X-MICROSOFT-CDO-ALLDAYEVENT:FALSE
SUMMARY:Ribbon Cutting for Benchmark Physical Therapy
DESCRIPTION:Everyone is invited to attend the Benchmark Physical Therapy ribbon cutting on Wednesday\, May 10 at 4 p.m.
X-ALT-DESC;FMTTYPE=text/html:Everyone is invited to attend the Benchmark Physical Therapy ribbon cutting on Wednesday\, May 10 at 4 p.m.&nbsp\;
LOCATION:305 Murphy Hwy\, Ste. E Blairsville\, GA 30512
UID:e.256.70003
SEQUENCE:3
DTSTAMP:20260420T010001Z
URL:https://members.visitblairsvillega.com/events/details/ribbon-cutting-for-benchmark-physical-therapy-70003
END:VEVENT

END:VCALENDAR
