BEGIN:VCALENDAR
VERSION:2.0
PRODID:-//ChamberMaster//Event Calendar 2.0//EN
METHOD:PUBLISH
X-PUBLISHED-TTL:P3D
REFRESH-INTERVAL:P3D
CALSCALE:GREGORIAN
BEGIN:VEVENT
DTSTART:20140716T150000Z
DTEND:20140716T160000Z
X-MICROSOFT-CDO-ALLDAYEVENT:FALSE
SUMMARY:Ribbon Cutting for Black & White Antiques
DESCRIPTION:You're Invited!\n\nJoin the Chamber of Commerce for a ribbon cutting for Black & White Antiques on Wednesday\, July 16th at 11:00am. They are located at 23 Dyer Ridge Rd. Head up 19/129N approximately 3.5 miles\, they will be on the left\, just past Robynne's Nest.\n\nDrawing for three $20 gift certificates.
X-ALT-DESC;FMTTYPE=text/html:You&#39\;re Invited!<br />\nJoin the Chamber of Commerce for a ribbon cutting for&nbsp\;Black&nbsp\;&amp\; White Antiques&nbsp\;on Wednesday\, July 16th at 11:00am. They are located at 23 Dyer Ridge Rd. Head up 19/129N approximately 3.5 miles\, they will be on the left\, just past Robynne&#39\;s Nest.<br />\nDrawing for&nbsp\;three $20 gift certificates.
LOCATION:Black & White Antiques 23 Dyer Ridge Rd. (Hwy.19/129N approximately 3.5 miles from town) Blairsville
UID:e.256.24915
SEQUENCE:3
DTSTAMP:20260424T092104Z
URL:https://members.visitblairsvillega.com/events/details/ribbon-cutting-for-black-white-antiques-07-16-2014-24915
END:VEVENT

END:VCALENDAR
