BEGIN:VCALENDAR
VERSION:2.0
PRODID:-//ChamberMaster//Event Calendar 2.0//EN
METHOD:PUBLISH
X-PUBLISHED-TTL:P3D
REFRESH-INTERVAL:P3D
CALSCALE:GREGORIAN
BEGIN:VEVENT
DTSTART:20170815T140000Z
DTEND:20170815T150000Z
X-MICROSOFT-CDO-ALLDAYEVENT:FALSE
SUMMARY:Ribbon Cutting for Blairsville Antiques & Treasures
DESCRIPTION:A ribbon cutting celebration will be held for Blairsville Antiques & Treasures.  Everyone is invited to come see what treasures you might find at this special event.
X-ALT-DESC;FMTTYPE=text/html:<span style="font-size:11pt\;"><span style="font-family:calibri\,sans-serif\;">A ribbon cutting celebration will be held for<em> Blairsville Antiques &amp\; Treasures. </em>&nbsp\;Everyone is invited to come see what treasures you might find at this special event.</span></span>
LOCATION:49B #1 Blue Ridge Street Blairsville\, GA 30512
UID:e.256.75275
SEQUENCE:3
DTSTAMP:20260419T195557Z
URL:https://members.visitblairsvillega.com/events/details/ribbon-cutting-for-blairsville-antiques-treasures-75275
END:VEVENT

END:VCALENDAR
