BEGIN:VCALENDAR
VERSION:2.0
PRODID:-//ChamberMaster//Event Calendar 2.0//EN
METHOD:PUBLISH
X-PUBLISHED-TTL:P3D
REFRESH-INTERVAL:P3D
CALSCALE:GREGORIAN
BEGIN:VEVENT
DTSTART:20171030T140000Z
DTEND:20171030T150000Z
X-MICROSOFT-CDO-ALLDAYEVENT:FALSE
SUMMARY:Ribbon Cutting for Blairsville Cruisers Car Club
DESCRIPTION:A ribbon cutting celebration will be held for the Blairsville Cruisers at their new club house on Murphy Hwy!  Everyone is invited to attend\, and please\, bring your cars!\n\n\n\nLet's get a good turn out of cars for this event and photo op for the club. Cars need to be there by 9:00 AM so they can be positioned for the photos and ribbon cutting scheduled for 10:00 AM.\n\n\n\nFree snacks and beverages to all who come!\n\n\n\nBe sure to thank Heritage Propane for the use of the building and all the utilities\, etc. which they are donating to the club.
X-ALT-DESC;FMTTYPE=text/html:A ribbon cutting celebration will be held for the Blairsville Cruisers at their new&nbsp\;club house on Murphy Hwy! &#8203\;Everyone is invited to attend\, and please\, bring your cars!<br />\n<br />\nLet&rsquo\;s get a good turn out of cars for this event and photo op for the club. Cars need to be there by 9:00 AM so they can be positioned for the photos and ribbon cutting scheduled for 10:00 AM.<br />\n<br />\nFree snacks and beverages to all who come!<br />\n<br />\nBe sure to thank Heritage Propane for the use of the building and all the utilities\, etc. which they are donating to the club.
LOCATION:1249 Murphy Highway Blairsville\, GA 30512 Location of club house is on Murphy Hwy just before the Sweet Spot and Ricks Rentals in the old Heritage Propane building (watch for the huge propane tanks and you are there. Big Blairsville Cruisers sign is on the building)
UID:e.256.76505
SEQUENCE:3
DTSTAMP:20260419T160649Z
URL:https://members.visitblairsvillega.com/events/details/ribbon-cutting-for-blairsville-cruisers-car-club-76505
END:VEVENT

END:VCALENDAR
