BEGIN:VCALENDAR
VERSION:2.0
PRODID:-//ChamberMaster//Event Calendar 2.0//EN
METHOD:PUBLISH
X-PUBLISHED-TTL:P3D
REFRESH-INTERVAL:P3D
CALSCALE:GREGORIAN
BEGIN:VEVENT
DTSTART:20160808T143000Z
DTEND:20160808T153000Z
X-MICROSOFT-CDO-ALLDAYEVENT:FALSE
SUMMARY:Ribbon Cutting for Blairsville Dance Project
DESCRIPTION:Everyone is invited to attend a ribbon cutting for the Blairsville Dance Project.  Come and meet Angela Puleo and see what fun is all about.  A business card drawing will take place for a surprise gift.
X-ALT-DESC;FMTTYPE=text/html:Everyone is invited to attend a ribbon cutting for the Blairsville Dance Project.&nbsp\; Come and meet Angela Puleo and see what fun is all about.&nbsp\; A business card drawing will take place for a surprise gift.
LOCATION:80 Blue Ridge Street Blairsville\, GA 30512
UID:e.256.54044
SEQUENCE:3
DTSTAMP:20260420T184233Z
URL:https://members.visitblairsvillega.com/events/details/ribbon-cutting-for-blairsville-dance-project-08-08-2016-54044
END:VEVENT

END:VCALENDAR
