BEGIN:VCALENDAR
VERSION:2.0
PRODID:-//ChamberMaster//Event Calendar 2.0//EN
METHOD:PUBLISH
X-PUBLISHED-TTL:P3D
REFRESH-INTERVAL:P3D
CALSCALE:GREGORIAN
BEGIN:VEVENT
DTSTART:20160504T173000Z
DTEND:20160504T183000Z
X-MICROSOFT-CDO-ALLDAYEVENT:FALSE
SUMMARY:Ribbon Cutting for Blairsville Eye Center
DESCRIPTION:Dr. John Hollier\, who has been serving our community for over 25 years\, will be celebrating the opening of the Blairsville Eye Center on Wednesday\, May 4 with a ribbon cutting.  The event will begin at 1:30 p.m. and refreshments will be served.  Everyone is invited to come and meet Dr. Hollier and his staff as we celebrate his new facility!
X-ALT-DESC;FMTTYPE=text/html:Dr. John Hollier\, who has been serving our community for over 25 years\,&nbsp\;will be celebrating the opening of the Blairsville Eye Center on Wednesday\, May 4 with a ribbon cutting.&nbsp\; The event will begin at 1:30 p.m. and refreshments will be served.&nbsp\; Everyone is invited to come and meet Dr. Hollier and his staff as we celebrate his new facility!
LOCATION:178 Bracketts Way\, Suite 1 Blairsville\, GA 30512
UID:e.256.50909
SEQUENCE:3
DTSTAMP:20260421T002857Z
URL:https://members.visitblairsvillega.com/events/details/ribbon-cutting-for-blairsville-eye-center-05-04-2016-50909
END:VEVENT

END:VCALENDAR
