BEGIN:VCALENDAR
VERSION:2.0
PRODID:-//ChamberMaster//Event Calendar 2.0//EN
METHOD:PUBLISH
X-PUBLISHED-TTL:P3D
REFRESH-INTERVAL:P3D
CALSCALE:GREGORIAN
BEGIN:VEVENT
DTSTART:20160810T180000Z
DTEND:20160810T190000Z
X-MICROSOFT-CDO-ALLDAYEVENT:FALSE
SUMMARY:Ribbon Cutting for Blairsville Galaxy Bowling
DESCRIPTION:Come on out and meet the new owners of Blairsville Galaxy Bowling.  There will be a great ribbon cutting and opportunity to meet the Stanley and Dee Tyler.
X-ALT-DESC;FMTTYPE=text/html:Come on out and meet the new owners of Blairsville Galaxy Bowling.&nbsp\; There will be a great ribbon cutting and opportunity to meet the Stanley and Dee Tyler.
LOCATION:104 Backyard Lane Blairsville\, GA 30512
UID:e.256.53665
SEQUENCE:3
DTSTAMP:20260420T165009Z
URL:https://members.visitblairsvillega.com/events/details/ribbon-cutting-for-blairsville-galaxy-bowling-08-10-2016-53665
END:VEVENT

END:VCALENDAR
