BEGIN:VCALENDAR
VERSION:2.0
PRODID:-//ChamberMaster//Event Calendar 2.0//EN
METHOD:PUBLISH
X-PUBLISHED-TTL:P3D
REFRESH-INTERVAL:P3D
CALSCALE:GREGORIAN
BEGIN:VEVENT
DTSTART:20140815T153000Z
DTEND:20140815T163000Z
X-MICROSOFT-CDO-ALLDAYEVENT:FALSE
SUMMARY:Ribbon Cutting for Blairsville Tech Support
DESCRIPTION:Please join us for a ribbon cutting ceremony on Friday\,August 15\, 2014 at 11:30am for Blairsville Tech Support\, located at 516 Blue Ridge Street\,Suite A. Come out and meet owners\, Felicia Lopez and Michael Newell. Visit their website www.BlairsvilleTechSupport.com and learn more about what their business offers.\n\nBring your business cards for door prize.\n\nFree PC Pitstop service ($45) Value!\n\nIncludes: Internal cleaning of desktop or laptop. Repaste of your video card and processor\,disk check\, start-up speed enhancement - prevents future system failures.
X-ALT-DESC;FMTTYPE=text/html:Please join us for a ribbon cutting ceremony on&nbsp\;Friday\,August 15\, 2014&nbsp\;at 11:30am for Blairsville Tech Support\, located at 516 Blue Ridge Street\,Suite A.&nbsp\;Come out and meet owners\,&nbsp\;Felicia&nbsp\;Lopez and&nbsp\;Michael&nbsp\;Newell. Visit their website <span style="color: rgb(0\, 0\, 205)\;"><u>www.BlairsvilleTechSupport.com</u></span> and learn more about what their business offers.<br />\nBring your business cards for door prize.<br />\nFree PC Pitstop service ($45) Value!<br />\nIncludes: Internal cleaning of desktop or laptop. Repaste of your video card and processor\,disk check\, start-up speed enhancement - prevents future system failures.<br />\n&nbsp\;
LOCATION:Blairsville Tech Support 516 Blue Ridge Street.\, Suite A\, located next to The Hair People\, Pat's Hallmark\, Brasstown Pharmacy.
UID:e.256.25468
SEQUENCE:3
DTSTAMP:20260424T073739Z
URL:https://members.visitblairsvillega.com/events/details/ribbon-cutting-for-blairsville-tech-support-08-15-2014-25468
END:VEVENT

END:VCALENDAR
