BEGIN:VCALENDAR
VERSION:2.0
PRODID:-//ChamberMaster//Event Calendar 2.0//EN
METHOD:PUBLISH
X-PUBLISHED-TTL:P3D
REFRESH-INTERVAL:P3D
CALSCALE:GREGORIAN
BEGIN:VEVENT
DTSTART:20170628T150000Z
DTEND:20170628T160000Z
X-MICROSOFT-CDO-ALLDAYEVENT:FALSE
SUMMARY:Ribbon Cutting for Blue Ridge Cotton Company
DESCRIPTION:Located just off The Square in beautiful downtown Blairsville\, the Blue Ridge Cotton Company is celebrating their move to our wonderful town. Come and meet Josh and Gary and browse through their charming shop.  The event will be a double ribbon cutting that will include Crawford Collections!
X-ALT-DESC;FMTTYPE=text/html:Located just off The Square in beautiful downtown Blairsville\, the Blue Ridge Cotton Company is celebrating their move to our wonderful town.&nbsp\;Come and meet Josh and Gary and browse through&nbsp\;their charming shop.&nbsp\; The event will be a double ribbon cutting that will include Crawford Collections!
LOCATION:35 Blue Ridge St. Blairsville\, GA 30512
UID:e.256.74169
SEQUENCE:3
DTSTAMP:20260420T004351Z
URL:https://members.visitblairsvillega.com/events/details/ribbon-cutting-for-blue-ridge-cotton-company-74169
END:VEVENT

END:VCALENDAR
