BEGIN:VCALENDAR
VERSION:2.0
PRODID:-//ChamberMaster//Event Calendar 2.0//EN
METHOD:PUBLISH
X-PUBLISHED-TTL:P3D
REFRESH-INTERVAL:P3D
CALSCALE:GREGORIAN
BEGIN:VEVENT
DTSTART:20160824T140000Z
DTEND:20160824T150000Z
X-MICROSOFT-CDO-ALLDAYEVENT:FALSE
SUMMARY:Ribbon Cutting for Blue Ridge Framing Company
DESCRIPTION:A ribbon cutting will be held at the Blairsville-Union County Chamber of Commerce for the Blue Ridge Framing Company.  Owners\, Lauren Garner and Natalie Kissel will be celebrating the opening of their new framing business specializing in custom picture framing\, restoration\, and an eclectic art gallery with a wide variety of unique prints.
X-ALT-DESC;FMTTYPE=text/html:A ribbon cutting will be held at the Blairsville-Union County Chamber of Commerce for the Blue Ridge Framing Company.&nbsp\; Owners\, Lauren Garner and Natalie Kissel will be celebrating the opening of their new framing business specializing in custom picture framing\, restoration\, and an eclectic art gallery with a wide variety of unique prints.
LOCATION:Blairsville-Union County Chamber of Commerce 129 Union County Recreation Road Blairsville\, GA 30512
UID:e.256.54062
SEQUENCE:3
DTSTAMP:20260420T184229Z
URL:https://members.visitblairsvillega.com/events/details/ribbon-cutting-for-blue-ridge-framing-company-08-24-2016-54062
END:VEVENT

END:VCALENDAR
