BEGIN:VCALENDAR
VERSION:2.0
PRODID:-//ChamberMaster//Event Calendar 2.0//EN
METHOD:PUBLISH
X-PUBLISHED-TTL:P3D
REFRESH-INTERVAL:P3D
CALSCALE:GREGORIAN
BEGIN:VEVENT
DTSTART:20160818T150000Z
DTEND:20160818T160000Z
X-MICROSOFT-CDO-ALLDAYEVENT:FALSE
SUMMARY:Ribbon Cutting for Blue Ridge Mountain Outfitters
DESCRIPTION:A great welcome and fun ribbon cutting will be taking place at Blue Ridge Mountain Outfitters.  Everyone is invited to come and meet the team and see all of the new and exciting merchandise that they have to offer.
X-ALT-DESC;FMTTYPE=text/html:A great welcome and fun ribbon cutting will be taking place at Blue Ridge Mountain Outfitters.&nbsp\; Everyone is invited to come and meet the team and see all of the new and exciting&nbsp\;merchandise that they have to offer.
LOCATION:36 Town Square Blairsville\, GA 30512
UID:e.256.54531
SEQUENCE:3
DTSTAMP:20260420T164937Z
URL:https://members.visitblairsvillega.com/events/details/ribbon-cutting-for-blue-ridge-mountain-outfitters-08-18-2016-54531
END:VEVENT

END:VCALENDAR
