BEGIN:VCALENDAR
VERSION:2.0
PRODID:-//ChamberMaster//Event Calendar 2.0//EN
METHOD:PUBLISH
X-PUBLISHED-TTL:P3D
REFRESH-INTERVAL:P3D
CALSCALE:GREGORIAN
BEGIN:VEVENT
DTSTART:20160407T180000Z
DTEND:20160407T190000Z
X-MICROSOFT-CDO-ALLDAYEVENT:FALSE
SUMMARY:Ribbon Cutting for Blue Ridge Mountains Wine & Jazz Festival
DESCRIPTION:We are pleased to host a ribbon cutting for one of our newer members\, the Blue Ridge Mountains Wine & Jazz Festival.  Come on out to meet Hope Killingsworth and learn more about this exciting musical event taking place in Blue Ridge\, GA.  "Come for the Festival. Stay for the Weekend."  A business card drawing will be held for "Two Free Admissions" to the festival!
X-ALT-DESC;FMTTYPE=text/html:We are pleased to host a ribbon cutting for one of our newer members\,&nbsp\;the Blue Ridge Mountains Wine &amp\; Jazz Festival.&nbsp\; Come on out to meet Hope Killingsworth and learn more about this exciting musical event taking place in Blue Ridge\, GA.&nbsp\; &quot\;Come for the Festival. Stay for the Weekend.&quot\;&nbsp\; A business card drawing will be held for &quot\;Two Free Admissions&quot\; to the festival!
LOCATION:Blairsville-Union County Chamber of Commerce 129 Union County Recreation Road Blairsville\, GA 30512
UID:e.256.50535
SEQUENCE:3
DTSTAMP:20260421T004123Z
URL:https://members.visitblairsvillega.com/events/details/ribbon-cutting-for-blue-ridge-mountains-wine-jazz-festival-04-07-2016-50535
END:VEVENT

END:VCALENDAR
