BEGIN:VCALENDAR
VERSION:2.0
PRODID:-//ChamberMaster//Event Calendar 2.0//EN
METHOD:PUBLISH
X-PUBLISHED-TTL:P3D
REFRESH-INTERVAL:P3D
CALSCALE:GREGORIAN
BEGIN:VEVENT
DTSTART:20160712T150000Z
DTEND:20160712T160000Z
X-MICROSOFT-CDO-ALLDAYEVENT:FALSE
SUMMARY:Ribbon Cutting for Body by Vi
DESCRIPTION:Everyone is invited to come to the Blairsville-Union County Chamber of Commerce and meet Melissa Griffin and Raven Nicholson with Body by Vi!!  They are a part of a health and fitness challenge business providing healthy fast food and energy products.
X-ALT-DESC;FMTTYPE=text/html:Everyone is invited to come to the Blairsville-Union County Chamber of Commerce and meet Melissa Griffin and Raven Nicholson with Body by Vi!!&nbsp\; They are a part of a health and fitness challenge business providing healthy fast food and energy products.
LOCATION:Blairsville-Union County Chamber of Commerce 129 Union County Recreation Road Blairsville\, GA 30512
UID:e.256.52284
SEQUENCE:3
DTSTAMP:20260420T184110Z
URL:https://members.visitblairsvillega.com/events/details/ribbon-cutting-for-body-by-vi-07-12-2016-52284
END:VEVENT

END:VCALENDAR
