BEGIN:VCALENDAR
VERSION:2.0
PRODID:-//ChamberMaster//Event Calendar 2.0//EN
METHOD:PUBLISH
X-PUBLISHED-TTL:P3D
REFRESH-INTERVAL:P3D
CALSCALE:GREGORIAN
BEGIN:VEVENT
DTSTART:20150626T180000Z
DTEND:20150626T190000Z
X-MICROSOFT-CDO-ALLDAYEVENT:FALSE
SUMMARY:Ribbon Cutting for Boondock's Bayou Grill
DESCRIPTION:Come on out to the bayou and join everyone for the Boondock's Bayou Grill ribbon cutting.
X-ALT-DESC;FMTTYPE=text/html:Come on out to the bayou and join everyone for the Boondock&#39\;s Bayou Grill ribbon cutting.
LOCATION:583 Blue Ridge Street Blairsville\, GA 30514
UID:e.256.40154
SEQUENCE:3
DTSTAMP:20260423T182651Z
URL:https://members.visitblairsvillega.com/events/details/ribbon-cutting-for-boondock-s-bayou-grill-06-26-2015-40154
END:VEVENT

END:VCALENDAR
