BEGIN:VCALENDAR
VERSION:2.0
PRODID:-//ChamberMaster//Event Calendar 2.0//EN
METHOD:PUBLISH
X-PUBLISHED-TTL:P3D
REFRESH-INTERVAL:P3D
CALSCALE:GREGORIAN
BEGIN:VEVENT
DTSTART:20171027T150000Z
DTEND:20171027T160000Z
X-MICROSOFT-CDO-ALLDAYEVENT:FALSE
SUMMARY:Ribbon Cutting for BR & Associates
DESCRIPTION:Date Change - Originally on Thursday\, Sep. 28. Now moved to Friday October 27th.\n\n\n\nA ribbon cutting celebration will be held for BR & Associates. BR & Associates provide a wide variety of accounting\, tax\, and financial management services.  Come out to meet Belinda Rosario and staff to see how they can help you today! Everyone is invited to this event.
X-ALT-DESC;FMTTYPE=text/html:<span style="font-size:medium\;"><span style="font-family:calibri\;"><span style="color:#FF0000\;"><strong>Date Change</strong></span> - Originally on Thursday\, Sep. 28. Now moved to Friday October 27th.<br />\n<br />\nA ribbon cutting celebration will be held for<em> BR &amp\; Associates. BR &amp\; Associates</em> provide a wide variety of accounting\, tax\, and financial management services.&nbsp\; Come out to meet Belinda Rosario and staff to see how they can help you today! Everyone is invited to this event.</span></span>
LOCATION:108 Blue Ridge Hwy\, Ste.1 Blairsville\, GA 30512
UID:e.256.75354
SEQUENCE:3
DTSTAMP:20260419T160019Z
URL:https://members.visitblairsvillega.com/events/details/ribbon-cutting-for-br-associates-75354
END:VEVENT

END:VCALENDAR
