BEGIN:VCALENDAR
VERSION:2.0
PRODID:-//ChamberMaster//Event Calendar 2.0//EN
METHOD:PUBLISH
X-PUBLISHED-TTL:P3D
REFRESH-INTERVAL:P3D
CALSCALE:GREGORIAN
BEGIN:VEVENT
DTSTART:20140806T153000Z
DTEND:20140806T163000Z
X-MICROSOFT-CDO-ALLDAYEVENT:FALSE
SUMMARY:Ribbon Cutting for Brasstown Manor
DESCRIPTION:Please join the chamber for a ribbon cutting on Wednesday\,August 6th at 11:30pm for a new member\, Brasstown Manor. The ribbon cutting will be held at the chamber office\, located at the Union County Community Center. Be sure and visit their website: www.brasstownmanor.com to learn more about our newest member.
X-ALT-DESC;FMTTYPE=text/html:Please join the chamber for a ribbon cutting on Wednesday\,August 6th at 11:30pm for a new member\,&nbsp\;Brasstown Manor. The ribbon cutting will be held&nbsp\;at the chamber office\, located at the Union County Community Center. Be sure and visit their website: www.brasstownmanor.com to learn more about our newest member.
LOCATION:Blairsville Union County Chamber of Commerce 129 Union County Rec Rd. Blairsville\, GA
UID:e.256.25375
SEQUENCE:3
DTSTAMP:20260424T073904Z
URL:https://members.visitblairsvillega.com/events/details/ribbon-cutting-for-brasstown-manor-08-06-2014-25375
END:VEVENT

END:VCALENDAR
