BEGIN:VCALENDAR
VERSION:2.0
PRODID:-//ChamberMaster//Event Calendar 2.0//EN
METHOD:PUBLISH
X-PUBLISHED-TTL:P3D
REFRESH-INTERVAL:P3D
CALSCALE:GREGORIAN
BEGIN:VEVENT
DTSTART:20170619T150000Z
DTEND:20170619T160000Z
X-MICROSOFT-CDO-ALLDAYEVENT:FALSE
SUMMARY:Ribbon Cutting for Bread & Bleu
DESCRIPTION:We're so very excited to introduce our newest eatry\, Bread & Bleu\, located at 305 Murphy Highway.    Everyone is invited to attend the ribbon cutting and meet owner\, Doug Caylor\, and his friendly and talented team at the sandwich parlor.
X-ALT-DESC;FMTTYPE=text/html:We&#39\;re so very excited to introduce our newest eatry\, Bread &amp\; Bleu\, located at 305 Murphy Highway.&nbsp\; &nbsp\; Everyone is invited to attend the ribbon cutting and meet owner\, Doug Caylor\, and his friendly and talented team at the sandwich parlor.
LOCATION:305 Murphy Highway Blairsville\, GA 30512
UID:e.256.73859
SEQUENCE:3
DTSTAMP:20260419T231736Z
URL:https://members.visitblairsvillega.com/events/details/ribbon-cutting-for-bread-bleu-73859
END:VEVENT

END:VCALENDAR
