BEGIN:VCALENDAR
VERSION:2.0
PRODID:-//ChamberMaster//Event Calendar 2.0//EN
METHOD:PUBLISH
X-PUBLISHED-TTL:P3D
REFRESH-INTERVAL:P3D
CALSCALE:GREGORIAN
BEGIN:VEVENT
DTSTART:20170726T150000Z
DTEND:20170726T160000Z
X-MICROSOFT-CDO-ALLDAYEVENT:FALSE
SUMMARY:Ribbon Cutting for Britt & Capri Boutique in Blairsville
DESCRIPTION:A ribbon cutting will be held on The Square in beautiful Blairsville for Britt & Capri.  Come and meet owner\, Debbie Wickersham\, and see the newest in ladies fashion and accessories.
X-ALT-DESC;FMTTYPE=text/html:A ribbon cutting will be held on The Square in beautiful Blairsville for Britt &amp\; Capri.&nbsp\; Come and meet owner\, Debbie Wickersham\, and see the newest in ladies fashion and accessories.
LOCATION:Britt & Capri 80 Town Square B Blairsville\, GA 30512
UID:e.256.74187
SEQUENCE:3
DTSTAMP:20260419T213411Z
URL:https://members.visitblairsvillega.com/events/details/ribbon-cutting-for-britt-capri-boutique-in-blairsville-74187
END:VEVENT

END:VCALENDAR
