BEGIN:VCALENDAR
VERSION:2.0
PRODID:-//ChamberMaster//Event Calendar 2.0//EN
METHOD:PUBLISH
X-PUBLISHED-TTL:P3D
REFRESH-INTERVAL:P3D
CALSCALE:GREGORIAN
BEGIN:VEVENT
DTSTART:20151112T160000Z
DTEND:20151112T170000Z
X-MICROSOFT-CDO-ALLDAYEVENT:FALSE
SUMMARY:Ribbon Cutting for Broadview Cove Apartments - Blue Ridge
DESCRIPTION:A ribbon cutting will be held to celebrate the grand opening of Broadview Cove Apartments in Blue Ridge.  The celebration will be hosted by both the Fannin and Union Chambers of Commerce.
X-ALT-DESC;FMTTYPE=text/html:A ribbon cutting will be held to celebrate the grand opening of Broadview Cove Apartments in Blue Ridge.&nbsp\; The celebration will be hosted by both the Fannin and Union Chambers of Commerce.
LOCATION:98 Broadview Drive Blue Ridge\, GA 30513
UID:e.256.44419
SEQUENCE:3
DTSTAMP:20260423T085805Z
URL:https://members.visitblairsvillega.com/events/details/ribbon-cutting-for-broadview-cove-apartments-blue-ridge-11-12-2015-44419
END:VEVENT

END:VCALENDAR
