BEGIN:VCALENDAR
VERSION:2.0
PRODID:-//ChamberMaster//Event Calendar 2.0//EN
METHOD:PUBLISH
X-PUBLISHED-TTL:P3D
REFRESH-INTERVAL:P3D
CALSCALE:GREGORIAN
BEGIN:VEVENT
DTSTART:20160412T140000Z
DTEND:20160412T150000Z
X-MICROSOFT-CDO-ALLDAYEVENT:FALSE
SUMMARY:Ribbon Cutting for Burger King of Blairsville
DESCRIPTION:We're very excited to invite the community to the "official reopening" of the Burger King located in Blairsville\, GA. With their recent renovation\, the Burger King Team wants everyone to drop on by and be a part of the ribbon cutting and celebration!
X-ALT-DESC;FMTTYPE=text/html:We&#39\;re very excited to invite the community to the &quot\;official reopening&quot\; of the Burger King located in Blairsville\, GA.&nbsp\;With their recent renovation\,&nbsp\;the Burger King Team wants everyone to drop on by and be a part of the ribbon cutting and celebration!
LOCATION:Burger King 64 Murphy Hwy Blairsville\, GA 30512
UID:e.256.50559
SEQUENCE:3
DTSTAMP:20260421T003038Z
URL:https://members.visitblairsvillega.com/events/details/ribbon-cutting-for-burger-king-of-blairsville-04-12-2016-50559
END:VEVENT

END:VCALENDAR
