BEGIN:VCALENDAR
VERSION:2.0
PRODID:-//ChamberMaster//Event Calendar 2.0//EN
METHOD:PUBLISH
X-PUBLISHED-TTL:P3D
REFRESH-INTERVAL:P3D
CALSCALE:GREGORIAN
BEGIN:VEVENT
DTSTART:20150731T170000Z
DTEND:20150731T180000Z
X-MICROSOFT-CDO-ALLDAYEVENT:FALSE
SUMMARY:Ribbon Cutting for Capsaicin eXtreme Marketing & Chillipics Photography
DESCRIPTION:Come and join everyone as we celebrate with a  dual ribbon cutting at Capsaicin eXtreme Marketing & Chillipics Photography\nChillipics Photography\nChillipics Photography\n\n-- Come and see everything these two businesses have to offer!\n\nThere will be a raffle for (1) free photography/portrait sitting at the Chillipics Studio.
X-ALT-DESC;FMTTYPE=text/html:Come and join everyone as we celebrate with a&nbsp\; dual ribbon cutting at Capsaicin eXtreme Marketing &amp\; Chillipics Photography\n<div id="stcpDiv" style="left: -1988px\; top: -1999px\; position: absolute\;">Chillipics Photography\n<div id="stcpDiv" style="left: -1988px\; top: -1999px\; position: absolute\;">Chillipics Photography</div>\n</div>\n-- Come and see everything these two businesses have to offer!<br />\nThere will be a raffle for (1) free photography/portrait sitting at the Chillipics Studio.
LOCATION:18 T & T Drive\, Suite B\, Blairsville. Store front located on Blue Ridge Highway just past Nelson's Ace Hardware on the opposite side of the road.
UID:e.256.40351
SEQUENCE:3
DTSTAMP:20260423T151757Z
URL:https://members.visitblairsvillega.com/events/details/ribbon-cutting-for-capsaicin-extreme-marketing-chillipics-photography-07-31-2015-40351
END:VEVENT

END:VCALENDAR
