BEGIN:VCALENDAR
VERSION:2.0
PRODID:-//ChamberMaster//Event Calendar 2.0//EN
METHOD:PUBLISH
X-PUBLISHED-TTL:P3D
REFRESH-INTERVAL:P3D
CALSCALE:GREGORIAN
BEGIN:VEVENT
DTSTART:20140414T150000Z
DTEND:20140414T160000Z
X-MICROSOFT-CDO-ALLDAYEVENT:FALSE
SUMMARY:Ribbon Cutting for Causey Orthodontics
DESCRIPTION:Join the chamber for a ribbon cutting on Monday\, April 14th at 11:00am for Causey Orthodontics\, located at 426 Cleveland Street. Come meet Dr. Mark Causey and his staff. Visit their website:www.causeyorthodontics.com
X-ALT-DESC;FMTTYPE=text/html:Join the chamber for a ribbon cutting on Monday\, April 14th at 11:00am for Causey&nbsp\;Orthodontics\, located at 426 Cleveland Street. Come meet Dr. Mark Causey and his staff.&nbsp\;Visit their website:www.causeyorthodontics.com<br />\n&nbsp\;
LOCATION:Causey Orthodontics 426 Cleveland Street Blairsville
UID:e.256.23452
SEQUENCE:3
DTSTAMP:20260424T133732Z
URL:https://members.visitblairsvillega.com/events/details/ribbon-cutting-for-causey-orthodontics-04-14-2014-23452
END:VEVENT

END:VCALENDAR
