BEGIN:VCALENDAR
VERSION:2.0
PRODID:-//ChamberMaster//Event Calendar 2.0//EN
METHOD:PUBLISH
X-PUBLISHED-TTL:P3D
REFRESH-INTERVAL:P3D
CALSCALE:GREGORIAN
BEGIN:VEVENT
DTSTART:20150826T123000Z
DTEND:20150826T133000Z
X-MICROSOFT-CDO-ALLDAYEVENT:FALSE
SUMMARY:Ribbon Cutting for Chick-fil-A
DESCRIPTION:Chick-fil-A is finally opening in Blairsville! Join us and please RSVP for this ribbon cutting and festivities!
X-ALT-DESC;FMTTYPE=text/html:Chick-fil-A is finally opening in Blairsville! Join us and please RSVP for this ribbon cutting and festivities!
LOCATION:Chick-fil-A 152 Hwy 515 E. Blairsville\, GA 152 Hwy 515 East Blairsville\, GA 30512 152 Hwy 515 East Blairsville\, GA 30512
UID:e.256.41392
SEQUENCE:3
DTSTAMP:20260423T134034Z
URL:https://members.visitblairsvillega.com/events/details/ribbon-cutting-for-chick-fil-a-08-26-2015-41392
END:VEVENT

END:VCALENDAR
