BEGIN:VCALENDAR
VERSION:2.0
PRODID:-//ChamberMaster//Event Calendar 2.0//EN
METHOD:PUBLISH
X-PUBLISHED-TTL:P3D
REFRESH-INTERVAL:P3D
CALSCALE:GREGORIAN
BEGIN:VEVENT
DTSTART:20150227T210000Z
DTEND:20150227T220000Z
X-MICROSOFT-CDO-ALLDAYEVENT:FALSE
SUMMARY:Ribbon Cutting for Cigars After Dark Lounge
DESCRIPTION:Join us for Cigars After Dark Lounge's Ribbon Cutting!\n\n$5 Raffle tickets to WIN $95 Cigar Sampler with lighter and cutter.\n\n$1 OFF cigars $10 and under\n\n$2 OFF cigars over $10
X-ALT-DESC;FMTTYPE=text/html:Join us for Cigars After Dark Lounge&#39\;s Ribbon Cutting!<br />\n$5 Raffle tickets to WIN $95 Cigar Sampler with lighter and cutter.<br />\n$1 OFF cigars $10 and under<br />\n$2 OFF cigars over $10
LOCATION:935 Murphy Hwy Blairsville\, GA 30512 North on 129 towards Murphy\, just over the hill past Mike's Seafood.
UID:e.256.36921
SEQUENCE:3
DTSTAMP:20260423T230054Z
URL:https://members.visitblairsvillega.com/events/details/ribbon-cutting-for-cigars-after-dark-lounge-02-27-2015-36921
END:VEVENT

END:VCALENDAR
