BEGIN:VCALENDAR
VERSION:2.0
PRODID:-//ChamberMaster//Event Calendar 2.0//EN
METHOD:PUBLISH
X-PUBLISHED-TTL:P3D
REFRESH-INTERVAL:P3D
CALSCALE:GREGORIAN
BEGIN:VEVENT
DTSTART:20160427T180000Z
DTEND:20160427T190000Z
X-MICROSOFT-CDO-ALLDAYEVENT:FALSE
SUMMARY:Ribbon Cutting for Clay County Care Center
DESCRIPTION:The Blairsville-Union County Chamber of Commerce is proud to be hosting a ribbon cutting for the Clay County Care Center located in Hayesville\, NC.  They specialize in senior healthcare services and pride themselves in "providing service with our hearts and hands."
X-ALT-DESC;FMTTYPE=text/html:The Blairsville-Union County Chamber of Commerce&nbsp\;is proud to be hosting a ribbon cutting for the Clay County Care Center located in Hayesville\, NC.&nbsp\; They specialize in senior healthcare services and&nbsp\;pride themselves in &quot\;providing service with our hearts and hands.&quot\;
LOCATION:Blairsville-Union County Chamber of Commerce 129 Union County Recreation Road Blairsville\, GA 30512
UID:e.256.49612
SEQUENCE:3
DTSTAMP:20260421T002836Z
URL:https://members.visitblairsvillega.com/events/details/ribbon-cutting-for-clay-county-care-center-04-27-2016-49612
END:VEVENT

END:VCALENDAR
