BEGIN:VCALENDAR
VERSION:2.0
PRODID:-//ChamberMaster//Event Calendar 2.0//EN
METHOD:PUBLISH
X-PUBLISHED-TTL:P3D
REFRESH-INTERVAL:P3D
CALSCALE:GREGORIAN
BEGIN:VEVENT
DTSTART:20160708T180000Z
DTEND:20160708T190000Z
X-MICROSOFT-CDO-ALLDAYEVENT:FALSE
SUMMARY:Ribbon Cutting for Clean Look Pressure Washing
DESCRIPTION:Owner Mike Savage with Clean Look Pressure Washing will be celebrating his new business with a ribbon cutting.
X-ALT-DESC;FMTTYPE=text/html:Owner Mike Savage with Clean Look Pressure Washing will be celebrating his new business with a ribbon cutting.
LOCATION:Blairsville-Union County Chamber of Commerce 129 Union County Recreation Road Blairsville\, GA 30512
UID:e.256.52283
SEQUENCE:3
DTSTAMP:20260420T184304Z
URL:https://members.visitblairsvillega.com/events/details/ribbon-cutting-for-clean-look-pressure-washing-07-08-2016-52283
END:VEVENT

END:VCALENDAR
