BEGIN:VCALENDAR
VERSION:2.0
PRODID:-//ChamberMaster//Event Calendar 2.0//EN
METHOD:PUBLISH
X-PUBLISHED-TTL:P3D
REFRESH-INTERVAL:P3D
CALSCALE:GREGORIAN
BEGIN:VEVENT
DTSTART:20160329T130000Z
DTEND:20160329T140000Z
X-MICROSOFT-CDO-ALLDAYEVENT:FALSE
SUMMARY:Ribbon Cutting for Complete Home Services/VistaScapes Landscaping
DESCRIPTION:Come and join us as we celebration the new location for VistaScapes Landscaping and Complete Home Services: We Can Be There When You Can't! with a ribbon cutting.  A business card drawing will take place for a "surprise gift."
X-ALT-DESC;FMTTYPE=text/html:Come and join us as we celebration the new location for&nbsp\;VistaScapes Landscaping and Complete Home Services: We Can Be There When You Can&#39\;t! with a ribbon cutting.&nbsp\; A business card drawing will take place for a &quot\;surprise gift.&quot\;
LOCATION:4171 Murphy Highway Blairsville\, GA 30512
UID:e.256.48314
SEQUENCE:3
DTSTAMP:20260421T040436Z
URL:https://members.visitblairsvillega.com/events/details/ribbon-cutting-for-complete-home-services-vistascapes-landscaping-03-29-2016-48314
END:VEVENT

END:VCALENDAR
