BEGIN:VCALENDAR
VERSION:2.0
PRODID:-//ChamberMaster//Event Calendar 2.0//EN
METHOD:PUBLISH
X-PUBLISHED-TTL:P3D
REFRESH-INTERVAL:P3D
CALSCALE:GREGORIAN
BEGIN:VEVENT
DTSTART:20160916T150000Z
DTEND:20160916T160000Z
X-MICROSOFT-CDO-ALLDAYEVENT:FALSE
SUMMARY:Ribbon Cutting for Copeland's Burgers & Southern Eats
DESCRIPTION:It's finally here!  Copeland's Burgers & Southern Eats\, the burger restaurant with a southern spin is open in the heart of Downtown Blairsville.  Everyone is invited to come and welcome owners Eric and Ahleah Eberhardt and find out what they mean when they say\, "where food and coziness compliment each other."
X-ALT-DESC;FMTTYPE=text/html:It&#39\;s finally here!&nbsp\; Copeland&#39\;s Burgers &amp\; Southern Eats\, the burger restaurant with a southern spin is open in the heart of Downtown Blairsville.&nbsp\; Everyone is invited to come and welcome owners Eric and Ahleah Eberhardt and find out what they mean when they say\, &quot\;where food and coziness compliment each other.&quot\;
LOCATION:17 Merchant's Walk Blairsville\, GA 30512
UID:e.256.54532
SEQUENCE:3
DTSTAMP:20260420T145420Z
URL:https://members.visitblairsvillega.com/events/details/ribbon-cutting-for-copeland-s-burgers-southern-eats-09-16-2016-54532
END:VEVENT

END:VCALENDAR
