BEGIN:VCALENDAR
VERSION:2.0
PRODID:-//ChamberMaster//Event Calendar 2.0//EN
METHOD:PUBLISH
X-PUBLISHED-TTL:P3D
REFRESH-INTERVAL:P3D
CALSCALE:GREGORIAN
BEGIN:VEVENT
DTSTART:20150506T140000Z
DTEND:20150506T150000Z
X-MICROSOFT-CDO-ALLDAYEVENT:FALSE
SUMMARY:Ribbon Cutting for Corridor Mortgage Group
DESCRIPTION:Join us for Corridor Mortgage Group's new office in Blairsville with their Ribbon Cutting!!!
X-ALT-DESC;FMTTYPE=text/html:Join us for Corridor Mortgage Group&#39\;s new office in Blairsville with their Ribbon Cutting!!!
LOCATION:178 Bracketts Way Unit 5 Blairsville\, GA 30512
UID:e.256.39996
SEQUENCE:3
DTSTAMP:20260423T200329Z
URL:https://members.visitblairsvillega.com/events/details/ribbon-cutting-for-corridor-mortgage-group-05-06-2015-39996
END:VEVENT

END:VCALENDAR
