BEGIN:VCALENDAR
VERSION:2.0
PRODID:-//ChamberMaster//Event Calendar 2.0//EN
METHOD:PUBLISH
X-PUBLISHED-TTL:P3D
REFRESH-INTERVAL:P3D
CALSCALE:GREGORIAN
BEGIN:VEVENT
DTSTART:20170628T150000Z
DTEND:20170628T160000Z
X-MICROSOFT-CDO-ALLDAYEVENT:FALSE
SUMMARY:Ribbon Cutting for Crawford Collections
DESCRIPTION:Located just off The Square in beautiful downtown Blairsville\, Crawford Collections is celebrating their move to our wonderful town. Come and meet Candace and browse through her lovely ladies apparel shop.  The event will be a double ribbon cutting that will include Blue Ridge Cotton Company!
X-ALT-DESC;FMTTYPE=text/html:Located just off The Square in beautiful downtown Blairsville\,&nbsp\;Crawford Collections&nbsp\;is celebrating their move to our wonderful town.&nbsp\;Come and meet&nbsp\;Candace and browse through her lovely ladies apparel&nbsp\;shop.&nbsp\; The event will be a double ribbon cutting that will include Blue Ridge Cotton Company!
LOCATION:35 Blue Ridge St. Blairsville\, GA 30512
UID:e.256.74170
SEQUENCE:3
DTSTAMP:20260420T004057Z
URL:https://members.visitblairsvillega.com/events/details/ribbon-cutting-for-crawford-collections-74170
END:VEVENT

END:VCALENDAR
