BEGIN:VCALENDAR
VERSION:2.0
PRODID:-//ChamberMaster//Event Calendar 2.0//EN
METHOD:PUBLISH
X-PUBLISHED-TTL:P3D
REFRESH-INTERVAL:P3D
CALSCALE:GREGORIAN
BEGIN:VEVENT
DTSTART:20160623T180000Z
DTEND:20160623T190000Z
X-MICROSOFT-CDO-ALLDAYEVENT:FALSE
SUMMARY:Ribbon Cutting for Crushed & Corked
DESCRIPTION:Crushed & Corked offers beer and wine crafting supplies\, equipment\, and gifts galore and they will be hosting a ribbon cutting at their new location.  Everyone is invited to come and meet Johnny Williams and see all of the great supplies\, gifts\, and doodads available.  Refreshments will be served and Johnny will be doing a drawing for an in-store gift certificate valued at $20.
X-ALT-DESC;FMTTYPE=text/html:Crushed &amp\; Corked offers beer and wine crafting supplies\, equipment\, and gifts galore and they will be hosting a ribbon cutting at their new location.&nbsp\; Everyone is invited to come and meet Johnny Williams and see all of the great supplies\, gifts\, and doodads available.&nbsp\; Refreshments will be served and Johnny will be doing a drawing for an in-store gift certificate valued at $20.
LOCATION:266 Shoe Factory Rd.\, #2 Blairsville\, GA 30512
UID:e.256.51276
SEQUENCE:3
DTSTAMP:20260420T203653Z
URL:https://members.visitblairsvillega.com/events/details/ribbon-cutting-for-crushed-corked-06-23-2016-51276
END:VEVENT

END:VCALENDAR
