BEGIN:VCALENDAR
VERSION:2.0
PRODID:-//ChamberMaster//Event Calendar 2.0//EN
METHOD:PUBLISH
X-PUBLISHED-TTL:P3D
REFRESH-INTERVAL:P3D
CALSCALE:GREGORIAN
BEGIN:VEVENT
DTSTART:20140613T153000Z
DTEND:20140613T163000Z
X-MICROSOFT-CDO-ALLDAYEVENT:FALSE
SUMMARY:Ribbon Cutting for Curtis Home Inspection
DESCRIPTION:Please join the Chamber of Commerce on Friday\, June 13\, 2014 at 11:30 for a ribbon cutting ceremony for Curtis Home Inspection\, LLC at the Union County Community Center\, located at 129 Union County Rec Rd. \n\nCome meet our newest member Stanley Tyler.\n\nBe sure and visit his website :www.chibeforeyoubuy.com for more information.
X-ALT-DESC;FMTTYPE=text/html:<span style="font-family: verdana\;"><span style="font-size: 12px\;">Please join the Chamber of Commerce on Friday\,&nbsp\;June 13\, 2014&nbsp\;at 11:30 for a ribbon cutting ceremony&nbsp\;for Curtis Home Inspection\, LLC&nbsp\;at the Union County Community Center\, located at 129 Union County Rec Rd.&nbsp\;<br />\nCome meet our newest member Stanley Tyler.<br />\nBe sure and visit his website :<span style="color: rgb(0\, 0\, 255)\;"><u>www.chibeforeyoubuy.com </u></span>for more information.<br />\n&nbsp\;</span></span>
LOCATION:Union County Community Center 129 Union County Rec Rd Blairsville
UID:e.256.24470
SEQUENCE:3
DTSTAMP:20260424T105315Z
URL:https://members.visitblairsvillega.com/events/details/ribbon-cutting-for-curtis-home-inspection-06-13-2014-24470
END:VEVENT

END:VCALENDAR
