BEGIN:VCALENDAR
VERSION:2.0
PRODID:-//ChamberMaster//Event Calendar 2.0//EN
METHOD:PUBLISH
X-PUBLISHED-TTL:P3D
REFRESH-INTERVAL:P3D
CALSCALE:GREGORIAN
BEGIN:VEVENT
DTSTART:20160502T150000Z
DTEND:20160502T150000Z
X-MICROSOFT-CDO-ALLDAYEVENT:FALSE
SUMMARY:Ribbon Cutting for Curves of Blairsville
DESCRIPTION:Curves of Blairsville has moved to a new location and everyone is invited to come see their new facility.  To celebrate\, Lucy\, Paula\, and the ladies will be having a ribbon cutting.  Refreshments will be served and a business card drawing to win a FREE membership for one month will be happening!  Curves of Blairsville will be having their ribbon cutting along with Tropical Beach Tanning Salon as they become new neighbors!
X-ALT-DESC;FMTTYPE=text/html:Curves of Blairsville has moved to a new location and everyone is invited to come see their new facility.&nbsp\; To celebrate\, Lucy\, Paula\, and the ladies will be having a ribbon cutting.&nbsp\; Refreshments will be served and a business card drawing to win a FREE membership for one month will be happening!&nbsp\; Curves of Blairsville will be having their ribbon cutting along with Tropical Beach Tanning Salon as they become new neighbors!
LOCATION:Curves of Blairsville 266C Shoe Factory Road\, Unit 4 Blairsville\, GA 30512
UID:e.256.45372
SEQUENCE:3
DTSTAMP:20260420T223421Z
URL:https://members.visitblairsvillega.com/events/details/ribbon-cutting-for-curves-of-blairsville-05-02-2016-45372
END:VEVENT

END:VCALENDAR
