BEGIN:VCALENDAR
VERSION:2.0
PRODID:-//ChamberMaster//Event Calendar 2.0//EN
METHOD:PUBLISH
X-PUBLISHED-TTL:P3D
REFRESH-INTERVAL:P3D
CALSCALE:GREGORIAN
BEGIN:VEVENT
DTSTART:20140813T140000Z
DTEND:20140813T150000Z
X-MICROSOFT-CDO-ALLDAYEVENT:FALSE
SUMMARY:Ribbon Cutting for David E Barrett \, LLC
DESCRIPTION:Please Join Us\n\nWednesday\, August 13\, 2014 at 10:00am\n\n   Ribbon Cutting\n\nfor David E Barrett\, LLC located at \n\n108 Blue Ridge Highway\, Suite 6 \n\nCome and meet attorney David E Barrett\, LLC\n\nCoffee and Donuts will be served.\n\nBring your business cards for Door Prizes
X-ALT-DESC;FMTTYPE=text/html:<p style="text-align: center\;"><span style="font-size: 14px\;"><span style="font-family: tahoma\;"><em>Please Join&nbsp\;Us</em><br />\n<em>Wednesday\,&nbsp\;August 13\, 2014 at 10:00am<br />\n&nbsp\;&nbsp\;&nbsp\;Ribbon Cutting<br />\nfor David E Barrett\, LLC located at&nbsp\;</em></span></span><br />\n<span style="font-size: 14px\;"><span style="font-family: tahoma\;"><em>108 Blue Ridge Highway\, Suite 6&nbsp\;<br />\nCome and meet attorney David E Barrett\, LLC<br />\nCoffee and Donuts&nbsp\;will be served.<br />\nBring your business cards for Door Prizes<br />\n<br />\n<span _fck_bookmark="1" style="display: none\;">&nbsp\;</span></em><br />\n<em>&nbsp\;&nbsp\;</em></span></span><br />\n&nbsp\;</p>\n
LOCATION:David E Barrett\, LLC 108 Blue Ridge Hwy.\, Ste. 6 Blairsville
UID:e.256.25454
SEQUENCE:3
DTSTAMP:20260424T073637Z
URL:https://members.visitblairsvillega.com/events/details/ribbon-cutting-for-david-e-barrett-llc-08-13-2014-25454
END:VEVENT

END:VCALENDAR
