BEGIN:VCALENDAR
VERSION:2.0
PRODID:-//ChamberMaster//Event Calendar 2.0//EN
METHOD:PUBLISH
X-PUBLISHED-TTL:P3D
REFRESH-INTERVAL:P3D
CALSCALE:GREGORIAN
BEGIN:VEVENT
DTSTART:20160614T200000Z
DTEND:20160614T210000Z
X-MICROSOFT-CDO-ALLDAYEVENT:FALSE
SUMMARY:Ribbon Cutting for Dean D. Worthingstun DO
DESCRIPTION:Come on out and meet Dean D. Worthingstun and his staff at a ribbon cutting celebration that will be held at the Blairsville-Union County Chamber of Commerce.
X-ALT-DESC;FMTTYPE=text/html:Come on out and meet Dean D. Worthingstun and his staff at a ribbon cutting celebration that will be held at the Blairsville-Union County Chamber of Commerce.
LOCATION:Blairsville-Union County Chamber of Commerce 129 Union County Recreation Rd. Blairsville Georgia
UID:e.256.51234
SEQUENCE:3
DTSTAMP:20260420T222908Z
URL:https://members.visitblairsvillega.com/events/details/ribbon-cutting-for-dean-d-worthingstun-do-06-14-2016-51234
END:VEVENT

END:VCALENDAR
