BEGIN:VCALENDAR
VERSION:2.0
PRODID:-//ChamberMaster//Event Calendar 2.0//EN
METHOD:PUBLISH
X-PUBLISHED-TTL:P3D
REFRESH-INTERVAL:P3D
CALSCALE:GREGORIAN
BEGIN:VEVENT
DTSTART:20171212T153000Z
DTEND:20171212T163000Z
X-MICROSOFT-CDO-ALLDAYEVENT:FALSE
SUMMARY:Ribbon Cutting for Detail Plus
DESCRIPTION:A ribbon cutting celebration will be held for Detail Plus. Detail Plus is available for auto detailing\, oil changes\, brakes\, and tune-ups. They have over 25 years of local experience\, and they are licensed\, bonded & insured. Everyone is invited to attend!
X-ALT-DESC;FMTTYPE=text/html:A ribbon cutting celebration will be held for Detail Plus. Detail Plus is available for auto detailing\, oil changes\, brakes\, and tune-ups. They have over 25 years of local experience\, and they are licensed\, bonded &amp\; insured. Everyone is invited to attend!
LOCATION:19 Old Blue Ridge Highway Blairsville\, GA 30512 (behind The Gym & Union Power Sports\, up on the hill\, before you get to Nelson's Ace)
UID:e.256.76824
SEQUENCE:3
DTSTAMP:20260419T123356Z
URL:https://members.visitblairsvillega.com/events/details/ribbon-cutting-for-detail-plus-76824
END:VEVENT

END:VCALENDAR
