BEGIN:VCALENDAR
VERSION:2.0
PRODID:-//ChamberMaster//Event Calendar 2.0//EN
METHOD:PUBLISH
X-PUBLISHED-TTL:P3D
REFRESH-INTERVAL:P3D
CALSCALE:GREGORIAN
BEGIN:VEVENT
DTSTART:20160323T180000Z
DTEND:20160323T190000Z
X-MICROSOFT-CDO-ALLDAYEVENT:FALSE
SUMMARY:Ribbon Cutting for Developing Horizons Ministries
DESCRIPTION:A celebration and ribbon cutting will be held at the Blairsville-Union County Chamber of Commerce for Developing Horizons Ministries.  Come and meet Diane Hale\, Director of this organization and learn more about the training\, support\, and their magazine\, Developing Horizons.
X-ALT-DESC;FMTTYPE=text/html:A celebration and ribbon cutting will be held at the Blairsville-Union County Chamber of Commerce for Developing Horizons Ministries.&nbsp\; Come and meet Diane Hale\, Director of this organization and learn more about the training\, support\, and their magazine\, <em>Developing Horizons</em>.
LOCATION:Blairsville-Union County Chamber of Commerce 129 Union County Recreation Road Blairsville\, GA 30512
UID:e.256.49614
SEQUENCE:3
DTSTAMP:20260421T035908Z
URL:https://members.visitblairsvillega.com/events/details/ribbon-cutting-for-developing-horizons-ministries-03-23-2016-49614
END:VEVENT

END:VCALENDAR
