BEGIN:VCALENDAR
VERSION:2.0
PRODID:-//ChamberMaster//Event Calendar 2.0//EN
METHOD:PUBLISH
X-PUBLISHED-TTL:P3D
REFRESH-INTERVAL:P3D
CALSCALE:GREGORIAN
BEGIN:VEVENT
DTSTART:20170608T140000Z
DTEND:20170608T150000Z
X-MICROSOFT-CDO-ALLDAYEVENT:FALSE
SUMMARY:Ribbon Cutting for Dey's Welding & Blacksmithing
DESCRIPTION:A ribbon cutting will be held for Butch Dey\, artist and owner of Dey's Welding and Blacksmithing.  The event will be held at the shop located at 10315 Murphy Hwy.  The community is invited to come and meet Butch and see the outstanding metal works of art that he has created.
X-ALT-DESC;FMTTYPE=text/html:A ribbon cutting will be held for Butch Dey\, artist and owner of Dey&#39\;s Welding and Blacksmithing.&nbsp\; The event will be held at the shop located at 10315 Murphy Hwy.&nbsp\; The community is invited to come and meet Butch and see the outstanding metal works of art that he has created.
LOCATION:Dey's Welding & Blacksmithing 10315 Murphy Hwy Blairsville\, GA 30512
UID:e.256.70008
SEQUENCE:3
DTSTAMP:20260419T231936Z
URL:https://members.visitblairsvillega.com/events/details/ribbon-cutting-for-dey-s-welding-blacksmithing-70008
END:VEVENT

END:VCALENDAR
