BEGIN:VCALENDAR
VERSION:2.0
PRODID:-//ChamberMaster//Event Calendar 2.0//EN
METHOD:PUBLISH
X-PUBLISHED-TTL:P3D
REFRESH-INTERVAL:P3D
CALSCALE:GREGORIAN
BEGIN:VEVENT
DTSTART:20161129T160000Z
DTEND:20161129T170000Z
X-MICROSOFT-CDO-ALLDAYEVENT:FALSE
SUMMARY:Ribbon Cutting for Dixie Confexions
DESCRIPTION:Ricky and Jody Atkins\, owners of Dixie Confexions\, will be having a ribbon cutting to celebrate their sweet\, new business.  Everyone is invited to attend.  Tastefully sweet refreshments will be served.
X-ALT-DESC;FMTTYPE=text/html:Ricky and Jody Atkins\, owners of Dixie Confexions\, will be having a ribbon cutting to celebrate their sweet\, new business.&nbsp\; Everyone is invited to attend.&nbsp\; Tastefully sweet refreshments will be served.
LOCATION:Blairsville-Union County Chamber of Commerce 129 Union County Recreation Road Blairsville\, GA 30512
UID:e.256.59724
SEQUENCE:3
DTSTAMP:20260420T112821Z
URL:https://members.visitblairsvillega.com/events/details/ribbon-cutting-for-dixie-confexions-59724
END:VEVENT

END:VCALENDAR
