BEGIN:VCALENDAR
VERSION:2.0
PRODID:-//ChamberMaster//Event Calendar 2.0//EN
METHOD:PUBLISH
X-PUBLISHED-TTL:P3D
REFRESH-INTERVAL:P3D
CALSCALE:GREGORIAN
BEGIN:VEVENT
DTSTART:20160302T180000Z
DTEND:20160302T190000Z
X-MICROSOFT-CDO-ALLDAYEVENT:FALSE
SUMMARY:Ribbon Cutting for Dunkin Donuts
DESCRIPTION:Something sweet is going on at Dunkin Donuts and it's not just the donuts!  Come on out and cut a ribbon with Jennifer Hayes and the Dunkin Donut team!
X-ALT-DESC;FMTTYPE=text/html:Something sweet is going on at Dunkin Donuts and it&#39\;s not just the donuts!&nbsp\; Come on out and cut a ribbon with Jennifer Hayes and the Dunkin Donut team!
LOCATION:Dunkin Donuts 16 Bracketts Way Blairsville\, GA
UID:e.256.49605
SEQUENCE:3
DTSTAMP:20260421T035944Z
URL:https://members.visitblairsvillega.com/events/details/ribbon-cutting-for-dunkin-donuts-03-02-2016-49605
END:VEVENT

END:VCALENDAR
