BEGIN:VCALENDAR
VERSION:2.0
PRODID:-//ChamberMaster//Event Calendar 2.0//EN
METHOD:PUBLISH
X-PUBLISHED-TTL:P3D
REFRESH-INTERVAL:P3D
CALSCALE:GREGORIAN
BEGIN:VEVENT
DTSTART:20170503T143000Z
DTEND:20170503T150000Z
X-MICROSOFT-CDO-ALLDAYEVENT:FALSE
SUMMARY:Ribbon Cutting for Eatzeez Takeout Delivery
DESCRIPTION:The Blairsville-Union County Chamber of Commerce is proud to be hosting a ribbon cutting for Eatzeez Takeout Delivery located in Blairsville\, GA.  They will be delivering from several local restaurants in the 30512 zip code area.  The business will be up and running on May 1\, 2017.   Light refreshments will be served.
X-ALT-DESC;FMTTYPE=text/html:The Blairsville-Union County Chamber of Commerce&nbsp\;is proud to be hosting a ribbon cutting for Eatzeez&nbsp\;Takeout Delivery located in Blairsville\, GA.&nbsp\; They will be delivering<span style="color: rgb(51\, 51\, 51)\; font-family: sans-serif\, Arial\, Verdana\, &quot\;Trebuchet MS&quot\;\; font-size: 13px\; background-color: rgb(255\, 255\, 255)\;">&nbsp\;from several local&nbsp\;</span><span style="color: rgb(51\, 51\, 51)\; font-family: sans-serif\, Arial\, Verdana\, &quot\;Trebuchet MS&quot\;\; font-size: 13px\; background-color: rgb(255\, 255\, 255)\;">restaurants</span> in the 30512 zip code area. &nbsp\;The business will be up and running on May 1\, 2017. &nbsp\; Light refreshments will be served.
LOCATION:Blairsville-Union County Chamber of Commerce 129 Union County Recreation Road Blairsville\, GA 30512
UID:e.256.72232
SEQUENCE:3
DTSTAMP:20260420T010305Z
URL:https://members.visitblairsvillega.com/events/details/ribbon-cutting-for-eatzeez-takeout-delivery-72232
END:VEVENT

END:VCALENDAR
