BEGIN:VCALENDAR
VERSION:2.0
PRODID:-//ChamberMaster//Event Calendar 2.0//EN
METHOD:PUBLISH
X-PUBLISHED-TTL:P3D
REFRESH-INTERVAL:P3D
CALSCALE:GREGORIAN
BEGIN:VEVENT
DTSTART:20151014T180000Z
DTEND:20151014T190000Z
X-MICROSOFT-CDO-ALLDAYEVENT:FALSE
SUMMARY:Ribbon Cutting for Elite Escapes\, LLC
DESCRIPTION:Elite Escapes\, a transportation and touring company\, has made its way to Blairsville!  Local transportation needs\, wine tours\, and trips to and from the Harrah's Cherokee Valley River Casino and Hotel are available. This limo bus is also available for private charters! To celebrate\, join owners Bob and Yvette Hansen for a ribbon cutting and festivities at the Blairsville-Union County Chamber of Commerce. Be sure to bring your business cards for a "surprise" drawing and everyone receives a 10% off coupon for your next ride!
X-ALT-DESC;FMTTYPE=text/html:Elite Escapes\, a transportation and touring company\, has made its way to Blairsville!&nbsp\; Local transportation needs\, wine tours\, and trips to and from the Harrah&#39\;s Cherokee Valley River Casino and Hotel are available. This limo bus is also available for private charters! To celebrate\, join owners Bob and Yvette Hansen&nbsp\;for a ribbon cutting and festivities at the Blairsville-Union County Chamber of Commerce. Be sure to bring your business cards for a &quot\;surprise&quot\; drawing and everyone receives a 10% off coupon for your next ride!
LOCATION:Blairsville-Union County Chamber of Commerce 129 Union County Recreation Road Blairsville\, GA 30512
UID:e.256.44303
SEQUENCE:3
DTSTAMP:20260423T102943Z
URL:https://members.visitblairsvillega.com/events/details/ribbon-cutting-for-elite-escapes-llc-10-14-2015-44303
END:VEVENT

END:VCALENDAR
