BEGIN:VCALENDAR
VERSION:2.0
PRODID:-//ChamberMaster//Event Calendar 2.0//EN
METHOD:PUBLISH
X-PUBLISHED-TTL:P3D
REFRESH-INTERVAL:P3D
CALSCALE:GREGORIAN
BEGIN:VEVENT
DTSTART:20140627T150000Z
DTEND:20140627T160000Z
X-MICROSOFT-CDO-ALLDAYEVENT:FALSE
SUMMARY:Ribbon Cutting for Emily's Elves
DESCRIPTION:You are invited to a Ribbon Cutting for Emily's Elves on Friday\, June 27 at 11:00am at the Blairsville Union County Chamber of Commerce\, located at 129 Union County Rec Rd. Come and meet owner\, Juli Grizzle.\n\nThey will be offering 25% off initial clean service\, if you sign up that day.\n\nHanding out $10 Santa Bucks to 1st 10 people to arrive.\n\nBring your business cards for a "Grand" door prize drawing - Shark Vacuum Cleaner.\n\nVisit their website for more information: www.emilys-elves.com
X-ALT-DESC;FMTTYPE=text/html:You are invited to a Ribbon Cutting for Emily&#39\;s Elves on Friday\, June 27 at 11:00am at the Blairsville Union County Chamber of Commerce\, located&nbsp\;at 129 Union County Rec&nbsp\;Rd.&nbsp\;Come and meet owner\, Juli&nbsp\;Grizzle.<br />\nThey will be offering 25% off initial clean service\, if you sign up that day.<br />\nHanding out $10 Santa Bucks to 1st 10 people to arrive.<br />\nBring your business cards for a &quot\;Grand&quot\; door prize drawing - Shark Vacuum Cleaner.<br />\nVisit their website for more information: <u>www.emilys-elves.com</u>
LOCATION:Blairsville Union County Chamber of Commerce Union County Community Center 129 Union County Rec Rd Blairsville\, GA 30512
UID:e.256.24776
SEQUENCE:3
DTSTAMP:20260424T121859Z
URL:https://members.visitblairsvillega.com/events/details/ribbon-cutting-for-emily-s-elves-06-27-2014-24776
END:VEVENT

END:VCALENDAR
