BEGIN:VCALENDAR
VERSION:2.0
PRODID:-//ChamberMaster//Event Calendar 2.0//EN
METHOD:PUBLISH
X-PUBLISHED-TTL:P3D
REFRESH-INTERVAL:P3D
CALSCALE:GREGORIAN
BEGIN:VEVENT
DTSTART:20150123T170000Z
DTEND:20150123T180000Z
X-MICROSOFT-CDO-ALLDAYEVENT:FALSE
SUMMARY:Ribbon Cutting for Empire of E Cigs Inc
DESCRIPTION:Grand Opening of Empire of E Cigs\, Inc.\n\n10% Discount for January and you can sample before you buy it!
X-ALT-DESC;FMTTYPE=text/html:Grand Opening of Empire of E Cigs\, Inc.<br />\n10% Discount for January and you can sample before you buy it!
LOCATION:Located at 19B Cobalt Street Blairsville\, GA\, next to the Griddle Cafe.
UID:e.256.33623
SEQUENCE:3
DTSTAMP:20260424T003631Z
URL:https://members.visitblairsvillega.com/events/details/ribbon-cutting-for-empire-of-e-cigs-inc-01-23-2015-33623
END:VEVENT

END:VCALENDAR
