BEGIN:VCALENDAR
VERSION:2.0
PRODID:-//ChamberMaster//Event Calendar 2.0//EN
METHOD:PUBLISH
X-PUBLISHED-TTL:P3D
REFRESH-INTERVAL:P3D
CALSCALE:GREGORIAN
BEGIN:VEVENT
DTSTART:20161014T200000Z
DTEND:20161014T210000Z
X-MICROSOFT-CDO-ALLDAYEVENT:FALSE
SUMMARY:Ribbon Cutting for Enotah Valley
DESCRIPTION:Everyone is invited to come and see the new Enotah Valley\, formerly known as Goose Creek.  Owners Tate and Linda Coghlan will be there to showcase this beautiful facility within Blairsville!  Refreshments will be served.
X-ALT-DESC;FMTTYPE=text/html:Everyone is invited to come and see the new Enotah Valley\, formerly known as Goose Creek. &nbsp\;Owners Tate and Linda Coghlan&nbsp\;will be there to showcase this beautiful facility within Blairsville! &nbsp\;Refreshments will be served.
LOCATION:29 Enotah Valley Lane Blairsville\, GA 30512
UID:e.256.58147
SEQUENCE:3
DTSTAMP:20260420T130953Z
URL:https://members.visitblairsvillega.com/events/details/ribbon-cutting-for-enotah-valley-58147
END:VEVENT

END:VCALENDAR
