BEGIN:VCALENDAR
VERSION:2.0
PRODID:-//ChamberMaster//Event Calendar 2.0//EN
METHOD:PUBLISH
X-PUBLISHED-TTL:P3D
REFRESH-INTERVAL:P3D
CALSCALE:GREGORIAN
BEGIN:VEVENT
DTSTART:20161201T210000Z
DTEND:20161201T220000Z
X-MICROSOFT-CDO-ALLDAYEVENT:FALSE
SUMMARY:Ribbon Cutting for Epic Catering
DESCRIPTION:Epic Catering will be holding a ribbon cutting at the Blairsville-Union County Chamber of Commerce.  Everyone is encouraged to come out to meet Karl and Ellen Engelmann and see why they are EPIC!  Refreshments will be served.
X-ALT-DESC;FMTTYPE=text/html:Epic Catering will be holding a ribbon cutting at the Blairsville-Union County Chamber of Commerce.&nbsp\; Everyone is encouraged to come out to meet Karl and Ellen Engelmann and see why they are EPIC!&nbsp\; Refreshments will be served.
LOCATION:Blairsville-Union County Chamber of Commerce 129 Union County Recreation Rd Blairsville\, GA 30512
UID:e.256.59706
SEQUENCE:3
DTSTAMP:20260420T093522Z
URL:https://members.visitblairsvillega.com/events/details/ribbon-cutting-for-epic-catering-59706
END:VEVENT

END:VCALENDAR
