BEGIN:VCALENDAR
VERSION:2.0
PRODID:-//ChamberMaster//Event Calendar 2.0//EN
METHOD:PUBLISH
X-PUBLISHED-TTL:P3D
REFRESH-INTERVAL:P3D
CALSCALE:GREGORIAN
BEGIN:VEVENT
DTSTART:20141212T183000Z
DTEND:20141212T193000Z
X-MICROSOFT-CDO-ALLDAYEVENT:FALSE
SUMMARY:Ribbon Cutting for ERA Carolina Mountain Homes
DESCRIPTION:The Chamber would like to extend an invitation to a ribbon cutting for ERA Carolina Mountain Homes\, Friday\, December 12th at 1:30pm.The ribbon cutting will be held in the Union County Community Center\, following the Board of Realtors meeting. Come in and meet Joan Posey\, Owner/Broker-GRI. Visit their website http://carolinamtnhome.com for more information.
X-ALT-DESC;FMTTYPE=text/html:<span style="font-size: 12px\;"><span style="font-family: verdana\;">The Chamber would like to&nbsp\;extend an&nbsp\;invitation to a ribbon cutting for&nbsp\;<font face="Verdana">ERA Carolina Mountain Homes\, Friday\,&nbsp\;December 12th&nbsp\;at 1:30pm.The ribbon cutting will be&nbsp\;held in the Union County Community Center\, following the Board of Realtors meeting.&nbsp\;Come in and meet Joan Posey\, </font></span></span>Owner/Broker-GRI.<span style="font-size: 12px\;"><span style="font-family: verdana\;"><font face="Verdana">&nbsp\;Visit their website </font></span></span><strong>http://carolinamtnhome.com</strong> for more information.
LOCATION:Union County Community Center 129 Union County Rec Rd Blairsville\, GA
UID:e.256.27673
SEQUENCE:3
DTSTAMP:20260424T034202Z
URL:https://members.visitblairsvillega.com/events/details/ribbon-cutting-for-era-carolina-mountain-homes-12-12-2014-27673
END:VEVENT

END:VCALENDAR
