BEGIN:VCALENDAR
VERSION:2.0
PRODID:-//ChamberMaster//Event Calendar 2.0//EN
METHOD:PUBLISH
X-PUBLISHED-TTL:P3D
REFRESH-INTERVAL:P3D
CALSCALE:GREGORIAN
BEGIN:VEVENT
DTSTART:20150120T153000Z
DTEND:20150120T163000Z
X-MICROSOFT-CDO-ALLDAYEVENT:FALSE
SUMMARY:Ribbon Cutting for Fabrics Galore and Quilting Store
DESCRIPTION:Patricia is inviting the community to her new store. Refreshments will be available after the Ribbon Cutting Ceremony.
X-ALT-DESC;FMTTYPE=text/html:Patricia is inviting the community to her new store. Refreshments will be available after the Ribbon Cutting Ceremony.
LOCATION:Located at 19 Cobalt Street Suite 7 Blairsville\, GA 30512
UID:e.256.33619
SEQUENCE:3
DTSTAMP:20260424T020551Z
URL:https://members.visitblairsvillega.com/events/details/ribbon-cutting-for-fabrics-galore-and-quilting-store-01-20-2015-33619
END:VEVENT

END:VCALENDAR
