BEGIN:VCALENDAR
VERSION:2.0
PRODID:-//ChamberMaster//Event Calendar 2.0//EN
METHOD:PUBLISH
X-PUBLISHED-TTL:P3D
REFRESH-INTERVAL:P3D
CALSCALE:GREGORIAN
BEGIN:VEVENT
DTSTART:20150306T160000Z
DTEND:20150306T170000Z
X-MICROSOFT-CDO-ALLDAYEVENT:FALSE
SUMMARY:Ribbon Cutting for Farm Fresh Processing
DESCRIPTION:Please join us for a ribbon cutting on behalf of Farm Fresh Processing.  Free lunch will be provided for all who join.  Farm Fresh will be "grilling out" for customers with samples of their fresh line of meats for sale.
X-ALT-DESC;FMTTYPE=text/html:Please join us for a ribbon cutting on behalf of Farm Fresh Processing.&nbsp\; Free lunch will be provided for all who join.&nbsp\; Farm Fresh will be &quot\;grilling out&quot\; for customers with samples of their fresh line of meats for sale.
LOCATION:6310 Murphy Hwy Blairsville\, Ga 19/129 North\, go 6 miles and Farm fresh is on the right\, across from Roundtree's Furniture. (before new bridge construction)
UID:e.256.37097
SEQUENCE:3
DTSTAMP:20260423T224708Z
URL:https://members.visitblairsvillega.com/events/details/ribbon-cutting-for-farm-fresh-processing-03-06-2015-37097
END:VEVENT

END:VCALENDAR
